BEGIN:VCALENDAR
PRODID:-//hacksw/handcal//NONSGML v1.0//EN
VERSION:2.0
METHOD:PUBLISH
BEGIN:VEVENT
DTSTART:20131119T223000Z
DTEND:20131120T000000Z
LOCATION:Landry's Seafood House
UID:744920131119T223000ZRegular Meeting
DTSTAMP:20260420T100901Z
DESCRIPTION:
SUMMARY:Regular Meeting - Estate Planning Council of Northwest Florida 
PRIORITY:3
BEGIN:VALARM
TRIGGER:PT18H
ACTION:DISPLAY
DESCRIPTION:Reminder
END:VALARM
END:VEVENT
END:VCALENDAR