BEGIN:VCALENDAR
PRODID:-//hacksw/handcal//NONSGML v1.0//EN
VERSION:2.0
METHOD:PUBLISH
BEGIN:VEVENT
DTSTART:20130716T213000Z
DTEND:20130716T230000Z
LOCATION:Landry's Seafood House
UID:744720130716T213000ZRegular Meeting
DTSTAMP:20260424T083441Z
DESCRIPTION:
SUMMARY:Regular Meeting - Estate Planning Council of Northwest Florida 
PRIORITY:3
BEGIN:VALARM
TRIGGER:PT18H
ACTION:DISPLAY
DESCRIPTION:Reminder
END:VALARM
END:VEVENT
END:VCALENDAR