BEGIN:VCALENDAR
PRODID:-//hacksw/handcal//NONSGML v1.0//EN
VERSION:2.0
METHOD:PUBLISH
BEGIN:VEVENT
DTSTART:20130521T213000Z
DTEND:20130521T230000Z
LOCATION:Landry's Seafood House
UID:744620130521T213000ZSurviving Obamacare
DTSTAMP:20260420T101645Z
DESCRIPTION:
SUMMARY:Surviving Obamacare - Estate Planning Council of Northwest Florida 
PRIORITY:3
BEGIN:VALARM
TRIGGER:PT18H
ACTION:DISPLAY
DESCRIPTION:Reminder
END:VALARM
END:VEVENT
END:VCALENDAR