BEGIN:VCALENDAR
PRODID:-//hacksw/handcal//NONSGML v1.0//EN
VERSION:2.0
METHOD:PUBLISH
BEGIN:VEVENT
DTSTART:20130423T210000Z
DTEND:20130423T233000Z
LOCATION:600 South
UID:744520130423T210000ZMembers Spring Social
DTSTAMP:20260420T101325Z
DESCRIPTION:
SUMMARY:Members Spring Social - Estate Planning Council of Northwest Florida 
PRIORITY:3
BEGIN:VALARM
TRIGGER:PT18H
ACTION:DISPLAY
DESCRIPTION:Reminder
END:VALARM
END:VEVENT
END:VCALENDAR