BEGIN:VCALENDAR
PRODID:-//hacksw/handcal//NONSGML v1.0//EN
VERSION:2.0
METHOD:PUBLISH
BEGIN:VEVENT
DTSTART:20121115T230000Z
DTEND:20121116T020000Z
LOCATION:600 South
UID:667220121115T230000ZYear End Social
DTSTAMP:20260422T140552Z
DESCRIPTION:\nOur next Estate Planning Council meeting will be a social on Thursday, November 15, 2012, from 6 - 9 p.m. (or as long as you can stay) at 600 South.   \n\n600 South is located at 600 S. Palafox, between Gimble and Cedar Streets.  The event will be located in the former restaurant at New World Landing.  The invitation is open to you and your spouse/significant other. \n\n We will have hors d’oeuvres and a cash bar with the Council providing one drink ticket to each attendee.   \n\nThere is no cost to attend, and so we certainly hope to see you there.  Please RSVP as soon as you can (but in no event later than November 9) so we can get an accurate headcount.   \n\n\n
SUMMARY:Year End Social - Estate Planning Council of Northwest Florida 
PRIORITY:3
BEGIN:VALARM
TRIGGER:PT18H
ACTION:DISPLAY
DESCRIPTION:Reminder
END:VALARM
END:VEVENT
END:VCALENDAR