BEGIN:VCALENDAR
PRODID:-//hacksw/handcal//NONSGML v1.0//EN
VERSION:2.0
METHOD:PUBLISH
BEGIN:VEVENT
DTSTART:20120918T204500Z
DTEND:20120918T213000Z
LOCATION:Landry's Seafood House
UID:667020120918T204500ZBoard Meeting
DTSTAMP:20260420T102559Z
DESCRIPTION:
SUMMARY:Board Meeting - Estate Planning Council of Northwest Florida 
PRIORITY:3
BEGIN:VALARM
TRIGGER:PT18H
ACTION:DISPLAY
DESCRIPTION:Reminder
END:VALARM
END:VEVENT
END:VCALENDAR