BEGIN:VCALENDAR
PRODID:-//hacksw/handcal//NONSGML v1.0//EN
VERSION:2.0
METHOD:PUBLISH
BEGIN:VEVENT
DTSTART:20250812T123000Z
DTEND:20250812T140000Z
LOCATION:Bodacious
UID:2841820250812T123000ZAugust Membership Meeting Mike Booth National Christian Foundation
DTSTAMP:20260420T103104Z
DESCRIPTION:
SUMMARY:August Membership Meeting Mike Booth National Christian Foundation - Estate Planning Council of Northwest Florida 
PRIORITY:3
BEGIN:VALARM
TRIGGER:PT18H
ACTION:DISPLAY
DESCRIPTION:Reminder
END:VALARM
END:VEVENT
END:VCALENDAR