BEGIN:VCALENDAR
PRODID:-//hacksw/handcal//NONSGML v1.0//EN
VERSION:2.0
METHOD:PUBLISH
BEGIN:VEVENT
DTSTART:20251014T123000Z
DTEND:20251014T141500Z
LOCATION:Bodacious
UID:2841520251014T123000ZAndrew Turner - Big Beautiful Bill
DTSTAMP:20260420T103816Z
DESCRIPTION:
SUMMARY:Andrew Turner - Big Beautiful Bill - Estate Planning Council of Northwest Florida 
PRIORITY:3
BEGIN:VALARM
TRIGGER:PT18H
ACTION:DISPLAY
DESCRIPTION:Reminder
END:VALARM
END:VEVENT
END:VCALENDAR