BEGIN:VCALENDAR
PRODID:-//hacksw/handcal//NONSGML v1.0//EN
VERSION:2.0
METHOD:PUBLISH
BEGIN:VEVENT
DTSTART:20250909T093000Z
DTEND:20250909T233000Z
LOCATION:Angelena's Ristorante
UID:2841420250909T093000Z NAEPC  Monique Lavender Greenberg - Celebrity Estates
DTSTAMP:20260420T103645Z
DESCRIPTION:
SUMMARY: NAEPC  Monique Lavender Greenberg - Celebrity Estates - Estate Planning Council of Northwest Florida 
PRIORITY:3
BEGIN:VALARM
TRIGGER:PT18H
ACTION:DISPLAY
DESCRIPTION:Reminder
END:VALARM
END:VEVENT
END:VCALENDAR