BEGIN:VCALENDAR
PRODID:-//hacksw/handcal//NONSGML v1.0//EN
VERSION:2.0
METHOD:PUBLISH
BEGIN:VEVENT
DTSTART:20250408T213000Z
DTEND:20250408T233000Z
LOCATION:Wine World. 4970 Bayou Blvd Pensacola
UID:2748820250408T213000ZSOCIAL
DTSTAMP:20260424T082627Z
DESCRIPTION:
SUMMARY:SOCIAL - Estate Planning Council of Northwest Florida 
PRIORITY:3
BEGIN:VALARM
TRIGGER:PT18H
ACTION:DISPLAY
DESCRIPTION:Reminder
END:VALARM
END:VEVENT
END:VCALENDAR