BEGIN:VCALENDAR
PRODID:-//hacksw/handcal//NONSGML v1.0//EN
VERSION:2.0
METHOD:PUBLISH
BEGIN:VEVENT
DTSTART:20241112T133000Z
DTEND:20241112T153000Z
LOCATION:Synovus Trust Co 125 W. Romano St 4th Floor
UID:2663420241112T133000ZPaul Caspersen
DTSTAMP:20260420T103833Z
DESCRIPTION:
SUMMARY:Paul Caspersen - Estate Planning Council of Northwest Florida 
PRIORITY:3
BEGIN:VALARM
TRIGGER:PT18H
ACTION:DISPLAY
DESCRIPTION:Reminder
END:VALARM
END:VEVENT
END:VCALENDAR