BEGIN:VCALENDAR
PRODID:-//hacksw/handcal//NONSGML v1.0//EN
VERSION:2.0
METHOD:PUBLISH
BEGIN:VEVENT
DTSTART:20241008T213000Z
DTEND:20241008T233000Z
LOCATION:Pensacola Little Theatre
UID:2663320241008T213000ZEPC NW Florida and ERSBA Young Lawyers Division
DTSTAMP:20260420T102905Z
DESCRIPTION:
SUMMARY:EPC NW Florida and ERSBA Young Lawyers Division - Estate Planning Council of Northwest Florida 
PRIORITY:3
BEGIN:VALARM
TRIGGER:PT18H
ACTION:DISPLAY
DESCRIPTION:Reminder
END:VALARM
END:VEVENT
END:VCALENDAR