BEGIN:VCALENDAR
PRODID:-//hacksw/handcal//NONSGML v1.0//EN
VERSION:2.0
METHOD:PUBLISH
BEGIN:VEVENT
DTSTART:20240910T123000Z
DTEND:20240910T140000Z
LOCATION:Bodacious Shops
UID:2663220240910T123000ZJeff Winick - TCJA Sunset
DTSTAMP:20260420T101325Z
DESCRIPTION:
SUMMARY:Jeff Winick - TCJA Sunset - Estate Planning Council of Northwest Florida 
PRIORITY:3
BEGIN:VALARM
TRIGGER:PT18H
ACTION:DISPLAY
DESCRIPTION:Reminder
END:VALARM
END:VEVENT
END:VCALENDAR