BEGIN:VCALENDAR
PRODID:-//hacksw/handcal//NONSGML v1.0//EN
VERSION:2.0
METHOD:PUBLISH
BEGIN:VEVENT
DTSTART:20240514T123000Z
DTEND:20240514T133000Z
LOCATION:Bodacious Shops
UID:2567320240514T123000ZCecilia Nanni - Community Foudation of Northwest Florida
DTSTAMP:20260420T103754Z
DESCRIPTION:
SUMMARY:Cecilia Nanni - Community Foudation of Northwest Florida - Estate Planning Council of Northwest Florida 
PRIORITY:3
BEGIN:VALARM
TRIGGER:PT18H
ACTION:DISPLAY
DESCRIPTION:Reminder
END:VALARM
END:VEVENT
END:VCALENDAR