BEGIN:VCALENDAR
PRODID:-//hacksw/handcal//NONSGML v1.0//EN
VERSION:2.0
METHOD:PUBLISH
BEGIN:VEVENT
DTSTART:20240409T123000Z
DTEND:20240409T133000Z
LOCATION:Bodaciouos Shops
UID:2567220240409T123000ZCircuit Judge Joel Boles
DTSTAMP:20260420T101109Z
DESCRIPTION:
SUMMARY:Circuit Judge Joel Boles - Estate Planning Council of Northwest Florida 
PRIORITY:3
BEGIN:VALARM
TRIGGER:PT18H
ACTION:DISPLAY
DESCRIPTION:Reminder
END:VALARM
END:VEVENT
END:VCALENDAR