BEGIN:VCALENDAR
PRODID:-//hacksw/handcal//NONSGML v1.0//EN
VERSION:2.0
METHOD:PUBLISH
BEGIN:VEVENT
DTSTART:20231010T210000Z
DTEND:20231010T223000Z
LOCATION:Angelena's Ristorante Italiano
UID:2408520231010T210000ZKit Mac Nee NAEPC speaker
DTSTAMP:20260420T103816Z
DESCRIPTION:
SUMMARY:Kit Mac Nee NAEPC speaker - Estate Planning Council of Northwest Florida 
PRIORITY:3
BEGIN:VALARM
TRIGGER:PT18H
ACTION:DISPLAY
DESCRIPTION:Reminder
END:VALARM
END:VEVENT
END:VCALENDAR