BEGIN:VCALENDAR
PRODID:-//hacksw/handcal//NONSGML v1.0//EN
VERSION:2.0
METHOD:PUBLISH
BEGIN:VEVENT
DTSTART:20230912T210000Z
DTEND:20230912T223000Z
LOCATION:Bodacious
UID:2408420230912T210000ZDavid Bear - Update on BP oil spill 
DTSTAMP:20260420T103415Z
DESCRIPTION:
SUMMARY:David Bear - Update on BP oil spill  - Estate Planning Council of Northwest Florida 
PRIORITY:3
BEGIN:VALARM
TRIGGER:PT18H
ACTION:DISPLAY
DESCRIPTION:Reminder
END:VALARM
END:VEVENT
END:VCALENDAR