BEGIN:VCALENDAR
PRODID:-//hacksw/handcal//NONSGML v1.0//EN
VERSION:2.0
METHOD:PUBLISH
BEGIN:VEVENT
DTSTART:20230411T210000Z
DTEND:20230411T223000Z
LOCATION:125 E Intendencia St 4th floor
UID:2408220230411T210000ZSocial - Clark Partington Law Office
DTSTAMP:20260420T101758Z
DESCRIPTION:
SUMMARY:Social - Clark Partington Law Office - Estate Planning Council of Northwest Florida 
PRIORITY:3
BEGIN:VALARM
TRIGGER:PT18H
ACTION:DISPLAY
DESCRIPTION:Reminder
END:VALARM
END:VEVENT
END:VCALENDAR