BEGIN:VCALENDAR
PRODID:-//hacksw/handcal//NONSGML v1.0//EN
VERSION:2.0
METHOD:PUBLISH
BEGIN:VEVENT
DTSTART:20230509T123000Z
DTEND:20230509T140000Z
LOCATION:Bodacious
UID:2408120230509T123000ZMembership - John Poole
DTSTAMP:20260420T103832Z
DESCRIPTION:
SUMMARY:Membership - John Poole - Estate Planning Council of Northwest Florida 
PRIORITY:3
BEGIN:VALARM
TRIGGER:PT18H
ACTION:DISPLAY
DESCRIPTION:Reminder
END:VALARM
END:VEVENT
END:VCALENDAR