BEGIN:VCALENDAR
PRODID:-//hacksw/handcal//NONSGML v1.0//EN
VERSION:2.0
METHOD:PUBLISH
BEGIN:VEVENT
DTSTART:20221213T133000Z
DTEND:20221213T143000Z
LOCATION:Bodacious Brew
UID:2246720221213T133000ZHoliday Social and Annual Membership Meeting
DTSTAMP:20260424T082739Z
DESCRIPTION:
SUMMARY:Holiday Social and Annual Membership Meeting - Estate Planning Council of Northwest Florida 
PRIORITY:3
BEGIN:VALARM
TRIGGER:PT18H
ACTION:DISPLAY
DESCRIPTION:Reminder
END:VALARM
END:VEVENT
END:VCALENDAR