BEGIN:VCALENDAR
PRODID:-//hacksw/handcal//NONSGML v1.0//EN
VERSION:2.0
METHOD:PUBLISH
BEGIN:VEVENT
DTSTART:20221025T123000Z
DTEND:20221025T133000Z
LOCATION:Bodacious Brew
UID:2246620221025T123000ZEmily Echevarria, Council of Aging West Florida
DTSTAMP:20260420T103051Z
DESCRIPTION:
SUMMARY:Emily Echevarria, Council of Aging West Florida - Estate Planning Council of Northwest Florida 
PRIORITY:3
BEGIN:VALARM
TRIGGER:PT18H
ACTION:DISPLAY
DESCRIPTION:Reminder
END:VALARM
END:VEVENT
END:VCALENDAR