BEGIN:VCALENDAR
PRODID:-//hacksw/handcal//NONSGML v1.0//EN
VERSION:2.0
METHOD:PUBLISH
BEGIN:VEVENT
DTSTART:20220823T123000Z
DTEND:20220823T133000Z
LOCATION:TBD
UID:2246420220823T123000ZMembership Meeting 
DTSTAMP:20260420T105859Z
DESCRIPTION:
SUMMARY:Membership Meeting  - Estate Planning Council of Northwest Florida 
PRIORITY:3
BEGIN:VALARM
TRIGGER:PT18H
ACTION:DISPLAY
DESCRIPTION:Reminder
END:VALARM
END:VEVENT
END:VCALENDAR