BEGIN:VCALENDAR
PRODID:-//hacksw/handcal//NONSGML v1.0//EN
VERSION:2.0
METHOD:PUBLISH
BEGIN:VEVENT
DTSTART:20220426T213000Z
DTEND:20220426T230000Z
LOCATION:TBD
UID:1442220220426T213000ZHappy Hour 
DTSTAMP:20260424T083642Z
DESCRIPTION:
SUMMARY:Happy Hour  - Estate Planning Council of Northwest Florida 
PRIORITY:3
BEGIN:VALARM
TRIGGER:PT18H
ACTION:DISPLAY
DESCRIPTION:Reminder
END:VALARM
END:VEVENT
END:VCALENDAR