BEGIN:VCALENDAR
PRODID:-//hacksw/handcal//NONSGML v1.0//EN
VERSION:2.0
METHOD:PUBLISH
BEGIN:VEVENT
DTSTART:20220322T123000Z
DTEND:20220322T133000Z
LOCATION:Bodacious Brew 
UID:1414220220322T123000ZMembership Meeting
DTSTAMP:20260424T082808Z
DESCRIPTION:\nTHE ESTATE PLANNING COUNCIL OF NORTHWEST FLORIDA\n \n                             INVITES YOU TO OUR MEETING\n \n                                     AT BODACIOUS BREW\n \n       TUESDAY MORNING, MARCH 22ND 8:30 AM – 9:30 AM\n \nGUEST SPEAKER – RYAN CAMPBELL, CPA, CVA – BUSINESS EVALUATIONS\n
SUMMARY:Membership Meeting - Estate Planning Council of Northwest Florida 
PRIORITY:3
BEGIN:VALARM
TRIGGER:PT18H
ACTION:DISPLAY
DESCRIPTION:Reminder
END:VALARM
END:VEVENT
END:VCALENDAR