BEGIN:VCALENDAR
PRODID:-//hacksw/handcal//NONSGML v1.0//EN
VERSION:2.0
METHOD:PUBLISH
BEGIN:VEVENT
DTSTART:20160517T213000Z
DTEND:20160517T230000Z
LOCATION:Landry's Seafood
UID:1271320160517T213000ZTrusts
DTSTAMP:20260420T103110Z
DESCRIPTION:
SUMMARY:Trusts - Estate Planning Council of Northwest Florida 
PRIORITY:3
BEGIN:VALARM
TRIGGER:PT18H
ACTION:DISPLAY
DESCRIPTION:Reminder
END:VALARM
END:VEVENT
END:VCALENDAR