BEGIN:VCALENDAR
PRODID:-//hacksw/handcal//NONSGML v1.0//EN
VERSION:2.0
METHOD:PUBLISH
BEGIN:VEVENT
DTSTART:20160315T213000Z
DTEND:20160315T230000Z
LOCATION:Landry's Seafood
UID:1271220160315T213000ZNAEPC Update
DTSTAMP:20260420T103754Z
DESCRIPTION:\nCouncil president Rick Lambert will share NAEPC information from the Annual Conference in November.\n
SUMMARY:NAEPC Update - Estate Planning Council of Northwest Florida 
PRIORITY:3
BEGIN:VALARM
TRIGGER:PT18H
ACTION:DISPLAY
DESCRIPTION:Reminder
END:VALARM
END:VEVENT
END:VCALENDAR