BEGIN:VCALENDAR
PRODID:-//hacksw/handcal//NONSGML v1.0//EN
VERSION:2.0
METHOD:PUBLISH
BEGIN:VEVENT
DTSTART:20160119T223000Z
DTEND:20160120T000000Z
LOCATION:Landry's Seafood
UID:1271120160119T223000Z"Trust Me, You'll Find This Interesting"
DTSTAMP:20260420T102925Z
DESCRIPTION:\nPresenting will be our very own Donna Bloomer from Bloomer, Geri & Company and her talk is titled "Trust Me, You'll Find This Interesting".\n \nThis meeting will be special because we have invited the membership of the FICPA to join us.\n \nSince we are hosting the memberships of two organizations, it is critical that you RSVP.  In the event we have too many for our normal meeting room, we'll need to let Landry's know so we can move to a larger area.\n \nRSVP by Friday January 15th to estateplanningcouncilnwf@gmail.com\n \n \n
SUMMARY:"Trust Me, You'll Find This Interesting" - Estate Planning Council of Northwest Florida 
PRIORITY:3
BEGIN:VALARM
TRIGGER:PT18H
ACTION:DISPLAY
DESCRIPTION:Reminder
END:VALARM
END:VEVENT
END:VCALENDAR