BEGIN:VCALENDAR
PRODID:-//hacksw/handcal//NONSGML v1.0//EN
VERSION:2.0
METHOD:PUBLISH
BEGIN:VEVENT
DTSTART:20151117T223000Z
LOCATION:Landry's Seafood
UID:1244120151117T223000ZRisk Management Update
DTSTAMP:20260424T082930Z
DESCRIPTION:\nJay Stubbs is a 16 year veteran of the insurance business. With extensive risk management knowledge, he can easily communicate the opportunities for planning and problem solving in life insurance, disability and long-term care. And with that knowledge, Jay can advise the advisor, as well as the consumer, in areas of family need, business protection and retirement planning\n \nAs a Chartered Life Underwriter (CLU) and leading Regional Director for First Protective, Jay works first hand with licensed financial professionals to navigate the risk management products and can be instrumental in discussing plans with their clients.  Jay has first-hand experience of how a good risk management plan can provide and protect in a time of need\n \nWhen he’s not working on a risk plan, Jay can be found spending time with his 4 children or helping out as coach for youth sporting events. He graduated from Birmingham-Southern, moved home to Mobile, started life with Kasey, and celebrate life with sons John & Jackson and twin daughters Jacqueline & Katherine.\n
SUMMARY:Risk Management Update - Estate Planning Council of Northwest Florida 
PRIORITY:3
BEGIN:VALARM
TRIGGER:PT18H
ACTION:DISPLAY
DESCRIPTION:Reminder
END:VALARM
END:VEVENT
END:VCALENDAR